BEGIN:VCALENDAR
VERSION:2.0
PRODID:-//Contractor Guy Network - ECPv6.15.20//NONSGML v1.0//EN
CALSCALE:GREGORIAN
METHOD:PUBLISH
X-WR-CALNAME:Contractor Guy Network
X-ORIGINAL-URL:https://plugincgn.com
X-WR-CALDESC:Events for Contractor Guy Network
REFRESH-INTERVAL;VALUE=DURATION:PT1H
X-Robots-Tag:noindex
X-PUBLISHED-TTL:PT1H
BEGIN:VTIMEZONE
TZID:Europe/London
BEGIN:DAYLIGHT
TZOFFSETFROM:+0000
TZOFFSETTO:+0100
TZNAME:BST
DTSTART:20240331T010000
END:DAYLIGHT
BEGIN:STANDARD
TZOFFSETFROM:+0100
TZOFFSETTO:+0000
TZNAME:GMT
DTSTART:20241027T010000
END:STANDARD
BEGIN:DAYLIGHT
TZOFFSETFROM:+0000
TZOFFSETTO:+0100
TZNAME:BST
DTSTART:20250330T010000
END:DAYLIGHT
BEGIN:STANDARD
TZOFFSETFROM:+0100
TZOFFSETTO:+0000
TZNAME:GMT
DTSTART:20251026T010000
END:STANDARD
BEGIN:DAYLIGHT
TZOFFSETFROM:+0000
TZOFFSETTO:+0100
TZNAME:BST
DTSTART:20260329T010000
END:DAYLIGHT
BEGIN:STANDARD
TZOFFSETFROM:+0100
TZOFFSETTO:+0000
TZNAME:GMT
DTSTART:20261025T010000
END:STANDARD
BEGIN:DAYLIGHT
TZOFFSETFROM:+0000
TZOFFSETTO:+0100
TZNAME:BST
DTSTART:20270328T010000
END:DAYLIGHT
BEGIN:STANDARD
TZOFFSETFROM:+0100
TZOFFSETTO:+0000
TZNAME:GMT
DTSTART:20271031T010000
END:STANDARD
END:VTIMEZONE
BEGIN:VEVENT
DTSTART;TZID=Europe/London:20260219T080000
DTEND;TZID=Europe/London:20260219T170000
DTSTAMP:20260424T211820
CREATED:20251027T233950Z
LAST-MODIFIED:20260225T181918Z
UID:4793-1771488000-1771520400@plugincgn.com
SUMMARY:Contractor Guy Network Host Savannah
DESCRIPTION:
URL:https://plugincgn.com/event/the-contractor-guy/
ATTACH;FMTTYPE=image/jpeg:https://plugincgn.com/wp-content/uploads/2025/10/ADWQDQW.jpg
ORGANIZER;CN="The Contractor":MAILTO:zacharynehme@gmail.com
END:VEVENT
BEGIN:VEVENT
DTSTART;TZID=Europe/London:20260116T080000
DTEND;TZID=Europe/London:20260116T170000
DTSTAMP:20260424T211820
CREATED:20251027T235342Z
LAST-MODIFIED:20260105T173554Z
UID:4810-1768550400-1768582800@plugincgn.com
SUMMARY:Tampa - PDI Connection - Ribbon Cutting
DESCRIPTION:
URL:https://plugincgn.com/event/tampa-pdi-connection-ribbon-cutting/
ATTACH;FMTTYPE=image/jpeg:https://plugincgn.com/wp-content/uploads/2025/10/ADWQDQW.jpg
ORGANIZER;CN="The Contractor":MAILTO:zacharynehme@gmail.com
END:VEVENT
BEGIN:VEVENT
DTSTART;TZID=Europe/London:20251216T080000
DTEND;TZID=Europe/London:20251216T170000
DTSTAMP:20260424T211820
CREATED:20251027T235359Z
LAST-MODIFIED:20260105T173447Z
UID:4812-1765872000-1765904400@plugincgn.com
SUMMARY:First Event Ribbon Cutting
DESCRIPTION:-December 16th\, 2025 – First event ribbon cutting.  Unfortunately\, this one has passed by the time you see this post.
URL:https://plugincgn.com/event/first-event-ribbon-cutting/
ATTACH;FMTTYPE=image/jpeg:https://plugincgn.com/wp-content/uploads/2025/10/ADWQDQW.jpg
ORGANIZER;CN="The Contractor":MAILTO:zacharynehme@gmail.com
END:VEVENT
BEGIN:VEVENT
DTSTART;TZID=Europe/London:20251216T040000
DTEND;TZID=Europe/London:20251216T060000
DTSTAMP:20260424T211820
CREATED:20251212T224011Z
LAST-MODIFIED:20251212T224011Z
UID:5051-1765857600-1765864800@plugincgn.com
SUMMARY:Intro To Contractor Guy Network
DESCRIPTION:Congratulations to Monument at Pooler! \nJoin the contractor guy in community and support of this accomplishment.  Support growth\, clean business\, and initiatives that drive the industry forward. \nNo dirt was harmed in the making of this ribbon cutting. \n 
URL:https://plugincgn.com/event/intro-to-contractor-guy-network/
END:VEVENT
END:VCALENDAR